BEGIN:VCALENDAR
VERSION:2.0
CALSCALE:GREGORIAN
PRODID:-//Diputació de Barcelona//DibaCMS//EN
BEGIN:VEVENT
UID:998
DTSTAMP:20260421T104228
DTSTART:20220405T000000
DTEND:20230405T000000
SUMMARY:L’escolarització de P2 serà gratuïta a partir del pròxim curs a les escoles bressol públiques
LOCATION:
METHOD:PUBLISH
X-WR-CALNAME:montseny@montseny.cat
X-WR-TIMEZONE:Europe/Madrid
DESCRIPTION:El Departament d'Educació ha anunciat aquest divendres que el pròxim curs s'iniciarà el procés de gratuïtat de l'escolarització infantil dels 0 als 3 anys a les escoles bressol de titularitat pública. Per començar, les famílies ja no hauran de pagar els preus d'escolarització dels infants de 2 a 3 anys a partir del curs 2022-2023; una mesura que es farà extensible a la resta a partir del curs 2023-2024.

URI:https://www.montseny.cat/actualitat/noticies/lescolaritzacio-de-p2-sera-gratuita-a-partir-del-proxim-curs-a-les-escoles-bressol-publiques.html
CLASS:PUBLIC
END:VEVENT
END:VCALENDAR
