BEGIN:VCALENDAR
VERSION:2.0
CALSCALE:GREGORIAN
PRODID:-//Diputació de Barcelona//DibaCMS//EN
BEGIN:VEVENT
UID:992
DTSTAMP:20260421T121207
DTSTART:20220330T000000
DTEND:20220531T000000
SUMMARY:Beques generals per al curs acadèmic 2022-23
LOCATION:
METHOD:PUBLISH
X-WR-CALNAME:montseny@montseny.cat
X-WR-TIMEZONE:Europe/Madrid
DESCRIPTION:Per a estudis de batxillerat, FP, artístics, escoles oficials d'idiomes, universitat o màster. A diferència d'altres anys, la convocatòria ja és oberta i el termini acaba el 12 de maig de 2022

URI:https://www.montseny.cat/actualitat/noticies/beques-generals-per-al-curs-academic-2022-23.html
CLASS:PUBLIC
END:VEVENT
END:VCALENDAR
