BEGIN:VCALENDAR
VERSION:2.0
CALSCALE:GREGORIAN
PRODID:-//Diputació de Barcelona//DibaCMS//EN
BEGIN:VEVENT
UID:989
DTSTAMP:20260419T142152
DTSTART:20220324T000000
DTEND:20220328T000000
SUMMARY:Comença l'horari d'estiu
LOCATION:
METHOD:PUBLISH
X-WR-CALNAME:montseny@montseny.cat
X-WR-TIMEZONE:Europe/Madrid
DESCRIPTION:La matinada del proper diumenge, 26 de març, els rellotges s’hauran d'avançar una hora: a les dues de la matinada seran les tres. Dormirem, per tant, una hora menys. L’objectiu del canvi és l’adaptació dels horaris a la llum del dia: així s’aprofita al màxim el sol com a font lumínica.

URI:https://www.montseny.cat/actualitat/noticies/comenca-lhorari-destiu.html
CLASS:PUBLIC
END:VEVENT
END:VCALENDAR
