BEGIN:VCALENDAR
VERSION:2.0
CALSCALE:GREGORIAN
PRODID:-//Diputació de Barcelona//DibaCMS//EN
BEGIN:VEVENT
UID:983
DTSTAMP:20260419T140555
DTSTART:20220310T000000
DTEND:20230310T000000
SUMMARY:Ajuts a la gestió forestal sostenible en finques de titularitat privada per a l’any 2022
LOCATION:
METHOD:PUBLISH
X-WR-CALNAME:montseny@montseny.cat
X-WR-TIMEZONE:Europe/Madrid
DESCRIPTION:En el marc de la gestió forestal sostenible s'han publicat els ajuts per a finques forestals de titularitat privada i per fomentar les actuacions silvícoles de millora de la xarxa viària per a la gestió dels boscos.

Presentació de sol·licituds: fins al dia 4 d’abril de 2022, inclòs.

URI:https://www.montseny.cat/actualitat/noticies/ajuts-a-la-gestio-forestal-sostenible-en-finques-de-titularitat-privada-per-a-lany-2022.html
CLASS:PUBLIC
END:VEVENT
END:VCALENDAR
