BEGIN:VCALENDAR
VERSION:2.0
CALSCALE:GREGORIAN
PRODID:-//Diputació de Barcelona//DibaCMS//EN
BEGIN:VEVENT
UID:958
DTSTAMP:20260419T172754
DTSTART:20221128T100000
DTEND:20230105T030000
SUMMARY:Ruta del Tions
LOCATION:
METHOD:PUBLISH
X-WR-CALNAME:montseny@montseny.cat
X-WR-TIMEZONE:Europe/Madrid
DESCRIPTION:Busca i troba els Tions repartits pel nucli del poble de Montseny i aconseguiràs... un obsequi !!

URI:https://www.montseny.cat/actualitat/noticies/ruta-del-tions.html
CLASS:PUBLIC
END:VEVENT
END:VCALENDAR
