BEGIN:VCALENDAR
VERSION:2.0
CALSCALE:GREGORIAN
PRODID:-//Diputació de Barcelona//DibaCMS//EN
BEGIN:VEVENT
UID:952
DTSTAMP:20260421T121502
DTSTART:20221130T040000
DTEND:20230108T000000
SUMMARY:Fira de Nadal
LOCATION:
METHOD:PUBLISH
X-WR-CALNAME:montseny@montseny.cat
X-WR-TIMEZONE:Europe/Madrid
DESCRIPTION:Fira de Nadal - Diumenge 11 de desembre a la Plaça de la Vila. 

URI:https://www.montseny.cat/actualitat/noticies/fira-de-nadal.html
CLASS:PUBLIC
END:VEVENT
END:VCALENDAR
