BEGIN:VCALENDAR
VERSION:2.0
CALSCALE:GREGORIAN
PRODID:-//Diputació de Barcelona//DibaCMS//EN
BEGIN:VEVENT
UID:950
DTSTAMP:20260419T211427
DTSTART:20241028T000000
DTEND:20241214T000000
SUMMARY:Campanya  "Aquí no llencem res. Aquí ho reciclem tot!"
LOCATION:
METHOD:PUBLISH
X-WR-CALNAME:montseny@montseny.cat
X-WR-TIMEZONE:Europe/Madrid
DESCRIPTION:El Consorci per a la gestió de residus del Vallès Oriental torna a posar en marxa la campanya de comunicació i divulgació Aquí no llencem res. Aquí ho reciclem tot ! amb l’objectiu de reduir el volum de residus que no es separen correctament i que van a parar al contenidor de la resta i podrien ser valoritzables si es dipositessin en el contenidor corresponent.

URI:https://www.montseny.cat/actualitat/noticies/campanya-aqui-no-llencem-res-aqui-ho-reciclem-tot.html
CLASS:PUBLIC
END:VEVENT
END:VCALENDAR
