BEGIN:VCALENDAR
VERSION:2.0
CALSCALE:GREGORIAN
PRODID:-//Diputació de Barcelona//DibaCMS//EN
BEGIN:VEVENT
UID:938
DTSTAMP:20260419T155632
DTSTART:20211031T100000
DTEND:20211031T210000
SUMMARY:Fira de Tardor
LOCATION:
METHOD:PUBLISH
X-WR-CALNAME:montseny@montseny.cat
X-WR-TIMEZONE:Europe/Madrid
DESCRIPTION:
URI:https://www.montseny.cat/actualitat/agenda/938-fira-de-tardor.html
CLASS:PUBLIC
END:VEVENT
END:VCALENDAR
