BEGIN:VCALENDAR
VERSION:2.0
CALSCALE:GREGORIAN
PRODID:-//Diputació de Barcelona//DibaCMS//EN
BEGIN:VEVENT
UID:919
DTSTAMP:20260419T154825
DTSTART:20210915T000000
DTEND:20220915T000000
SUMMARY:Tallers de turisme Online
LOCATION:
METHOD:PUBLISH
X-WR-CALNAME:montseny@montseny.cat
X-WR-TIMEZONE:Europe/Madrid
DESCRIPTION:Sessions pràctiques per millorar la gestió de negocis i destinacions  - Setembre-Novembre 2021

URI:https://www.montseny.cat/actualitat/noticies/tallers-de-turisme-online.html
CLASS:PUBLIC
END:VEVENT
END:VCALENDAR
