BEGIN:VCALENDAR
VERSION:2.0
CALSCALE:GREGORIAN
PRODID:-//Diputació de Barcelona//DibaCMS//EN
BEGIN:VEVENT
UID:916
DTSTAMP:20260419T203510
DTSTART:20210813T000000
DTEND:20210816T000000
SUMMARY:Mesures excepcionals que s’han pres per aquest cap de setmana al parc natural del Montseny 
LOCATION:
METHOD:PUBLISH
X-WR-CALNAME:montseny@montseny.cat
X-WR-TIMEZONE:Europe/Madrid
DESCRIPTION:Des del parc natural del Montseny s’informa que el perill d’incendi al Montseny és molt alt/extrem i que es recomana que la gent no accedeixi al medi natural. Per això s’han anul·lat les passejades guiades, l’activitat de Viu el Parc i el servei de transport públic Bus Parc. https://parcs.diba.cat/web/l-informatiu/-/montseny-mesures-excepcionals-amb-motiu-de-l-elevat-risc-d-incendi-al-parc-natural-del-montseny

S’ha arribat a un consens tancar l’accés motoritzat a determinades zones, adjuntem la relació de les camins amb l’accés restringit a veïns i serveis.

URI:https://www.montseny.cat/actualitat/noticies/mesures-excepcionals-que-shan-pres-per-aquest-cap-de-setmana-al-parc-natural-del-montseny-.html
CLASS:PUBLIC
END:VEVENT
END:VCALENDAR
