BEGIN:VCALENDAR
VERSION:2.0
CALSCALE:GREGORIAN
PRODID:-//Diputació de Barcelona//DibaCMS//EN
BEGIN:VEVENT
UID:915
DTSTAMP:20260419T140905
DTSTART:20210812T000000
DTEND:20210817T000000
SUMMARY:Entren en vigor les restriccions davant l'onada de calor i l'elevat risc d'incendi en 279 municipis
LOCATION:
METHOD:PUBLISH
X-WR-CALNAME:montseny@montseny.cat
X-WR-TIMEZONE:Europe/Madrid
DESCRIPTION:Les restriccions i prohibicions establertes pel Govern davant de l'onada de calor i l'elevat risc d'incendi han entrat en vigor aquest dijous en 279 municipis, després que el Diari Oficial de la Generalitat (DOGC) hagi publicat la resolució.

El municipi de Montseny no està dins d'aquests 279 municipis, però tot i així us demanem prudència i a respectar les restriccions per la calor i el risc d’incendis.  

URI:https://www.montseny.cat/actualitat/noticies/entren-en-vigor-les-restriccions-davant-lonada-de-calor-i-lelevat-risc-dincendi-en-279-municipis.html
CLASS:PUBLIC
END:VEVENT
END:VCALENDAR
