BEGIN:VCALENDAR
VERSION:2.0
CALSCALE:GREGORIAN
PRODID:-//Diputació de Barcelona//DibaCMS//EN
BEGIN:VEVENT
UID:911
DTSTAMP:20260419T193236
DTSTART:20220728T000000
DTEND:20221228T000000
SUMMARY:Programa de Festa Major Montseny 2022
LOCATION:
METHOD:PUBLISH
X-WR-CALNAME:montseny@montseny.cat
X-WR-TIMEZONE:Europe/Madrid
DESCRIPTION:
URI:https://www.montseny.cat/actualitat/noticies/programa-de-festa-major-montseny-2022.html
CLASS:PUBLIC
END:VEVENT
END:VCALENDAR
