BEGIN:VCALENDAR
VERSION:2.0
CALSCALE:GREGORIAN
PRODID:-//Diputació de Barcelona//DibaCMS//EN
BEGIN:VEVENT
UID:875
DTSTAMP:20260419T193524
DTSTART:20240423T030000
DTEND:20240423T233000
SUMMARY:Feliç Diada de Sant Jordi!
LOCATION:
METHOD:PUBLISH
X-WR-CALNAME:montseny@montseny.cat
X-WR-TIMEZONE:Europe/Madrid
DESCRIPTION:Us desitgem una feliç Diada de Sant Jordi.

URI:https://www.montseny.cat/actualitat/noticies/felic-diada-de-sant-jordi.html
CLASS:PUBLIC
END:VEVENT
END:VCALENDAR
