BEGIN:VCALENDAR
VERSION:2.0
CALSCALE:GREGORIAN
PRODID:-//Diputació de Barcelona//DibaCMS//EN
BEGIN:VEVENT
UID:862
DTSTAMP:20260419T190322
DTSTART:20240315T000000
DTEND:20241015T000000
SUMMARY:Campanya d’autoritzacions d’activitats de risc d’incendi forestal.
LOCATION:
METHOD:PUBLISH
X-WR-CALNAME:montseny@montseny.cat
X-WR-TIMEZONE:Europe/Madrid
DESCRIPTION:Del 15 de març al 15 d’octubre, les activitats de risc d’incendi que es duguin a terme a menys de 500 metres de terreny forestal, necessiten autorització de la Direcció General de Boscos i Gestió del Medi, segons el Decret 64/1995, del 7 de març, pel qual s’estableixen mesures de prevenció d’incendis forestals

URI:https://www.montseny.cat/actualitat/noticies/campanya-dautoritzacions-dactivitats-de-risc-dincendi-forestal.html
CLASS:PUBLIC
END:VEVENT
END:VCALENDAR
