BEGIN:VCALENDAR
VERSION:2.0
CALSCALE:GREGORIAN
PRODID:-//Diputació de Barcelona//DibaCMS//EN
BEGIN:VEVENT
UID:851
DTSTAMP:20260419T204037
DTSTART:20210209T000000
DTEND:20220209T000000
SUMMARY:El Consorci per a la Normalització Lingüística crea el compte CPNL a Spotify 
LOCATION:
METHOD:PUBLISH
X-WR-CALNAME:montseny@montseny.cat
X-WR-TIMEZONE:Europe/Madrid
DESCRIPTION:Amb la finalitat de divulgar el català en l'àmbit musical i fer més atractiu l'aprenentatge de la llengua, el Consorci per a la Normalització Lingüística crea un compte propi a la plataforma virtual de Spotify, pensat per a totes les persones que, arreu del món, volen aprendre, cantar i sentir en català. 

Escolteu música en català!

Vinga! Entreu-hi i passeu-vos-ho bé! http://breu.cpnl.cat/spotify

URI:https://www.montseny.cat/actualitat/noticies/el-consorci-per-a-la-normalitzacio-linguistica-crea-el-compte-cpnl-a-spotify-.html
CLASS:PUBLIC
END:VEVENT
END:VCALENDAR
