BEGIN:VCALENDAR
VERSION:2.0
CALSCALE:GREGORIAN
PRODID:-//Diputació de Barcelona//DibaCMS//EN
BEGIN:VEVENT
UID:850
DTSTAMP:20260421T133640
DTSTART:20211007T000000
DTEND:20211014T000000
SUMMARY:Mesures per a la contenció de la COVID-19 aplicables a partir del 30 de setembre de 2021
LOCATION:
METHOD:PUBLISH
X-WR-CALNAME:montseny@montseny.cat
X-WR-TIMEZONE:Europe/Madrid
DESCRIPTION:A partir del 8 d'octubre entren en vigor algunes modificacions de les mesures especials de contenció de la COVID-19.

Mesures contra la COVID-19 a Catalunya

URI:https://www.montseny.cat/actualitat/noticies/mesures-per-a-la-contencio-de-la-covid-19-aplicables-a-partir-del-30-de-setembre-de-2021.html
CLASS:PUBLIC
END:VEVENT
END:VCALENDAR
