BEGIN:VCALENDAR
VERSION:2.0
CALSCALE:GREGORIAN
PRODID:-//Diputació de Barcelona//DibaCMS//EN
BEGIN:VEVENT
UID:846
DTSTAMP:20260419T143421
DTSTART:20210124T000000
DTEND:20220124T000000
SUMMARY:Es prorroguen les mesures en matèria de salut pública per a la contenció del brot epidèmic de la pandèmia de COVID-19 al territori de Catalunya.
LOCATION:
METHOD:PUBLISH
X-WR-CALNAME:montseny@montseny.cat
X-WR-TIMEZONE:Europe/Madrid
DESCRIPTION:Es comunica que al DOGC núm. 8324 del 23/01/2021 s'ha publicat la següent normativa d'interès:

RESOLUCIÓ SLT/133/2021, de 22 de gener, per la qual es prorroguen les mesures en matèria de salut pública per a la contenció del brot epidèmic de la pandèmia de COVID-19 al territori de Catalunya.

URI:https://www.montseny.cat/actualitat/noticies/es-prorroguen-les-mesures-en-materia-de-salut-publica-per-a-la-contencio-del-brot-epidemic-de-la-pandemia-de-covid-19-al-territori-de-catalunya.html
CLASS:PUBLIC
END:VEVENT
END:VCALENDAR
