BEGIN:VCALENDAR
VERSION:2.0
CALSCALE:GREGORIAN
PRODID:-//Diputació de Barcelona//DibaCMS//EN
BEGIN:VEVENT
UID:818
DTSTAMP:20260419T170825
DTSTART:20220817T000000
DTEND:20230131T000000
SUMMARY:Mesures que han de complir les explotacions avícoles davant la situació de risc d’introducció de la IAAP
LOCATION:
METHOD:PUBLISH
X-WR-CALNAME:montseny@montseny.cat
X-WR-TIMEZONE:Europe/Madrid
DESCRIPTION:Considerant l’elevat risc d’introducció del virus de la IAAP al nostre territori, valorant l’evolució de la situació de la malaltia a Europa, s'han adoptat mesures sanitàries de salvaguarda per prevenir la introducció de la Influença Aviària a Catalunya, totes les explotacions ubicades a Catalunya. 

Mesures de prevenció i més informació al següent enllaç: Situació a Catalunya. Departament d'Acció Climàtica, Alimentació i Agenda Rural (gencat.cat)

 

URI:https://www.montseny.cat/actualitat/noticies/mesures-que-han-de-complir-les-explotacions-avicoles-davant-la-situacio-de-risc-dintroduccio-de-la-iaap.html
CLASS:PUBLIC
END:VEVENT
END:VCALENDAR
