BEGIN:VCALENDAR
VERSION:2.0
CALSCALE:GREGORIAN
PRODID:-//Diputació de Barcelona//DibaCMS//EN
BEGIN:VEVENT
UID:803
DTSTAMP:20260419T152845
DTSTART:20201028T000000
DTEND:20210331T000000
SUMMARY:Entrenament funcional
LOCATION:
METHOD:PUBLISH
X-WR-CALNAME:montseny@montseny.cat
X-WR-TIMEZONE:Europe/Madrid
DESCRIPTION:L'Associació Montseny Actiu amb la col.laboració de l'Ajuntament organitza una activitat d'entrenament funcional per a tots els nivells.

URI:https://www.montseny.cat/actualitat/noticies/entrenament-funcional.html
CLASS:PUBLIC
END:VEVENT
END:VCALENDAR
