BEGIN:VCALENDAR
VERSION:2.0
CALSCALE:GREGORIAN
PRODID:-//Diputació de Barcelona//DibaCMS//EN
BEGIN:VEVENT
UID:786
DTSTAMP:20260421T103513
DTSTART:20201015T130000
DTEND:20211016T000000
SUMMARY:Webinar sobre democràcia participativa
LOCATION:
METHOD:PUBLISH
X-WR-CALNAME:montseny@montseny.cat
X-WR-TIMEZONE:Europe/Madrid
DESCRIPTION:Assistim al webinar sobre "Eines digitals per a la democràcia participativa" ofert per Localret i LaSalle.

URI:https://www.montseny.cat/actualitat/noticies/webinar-sobre-democracia-participativa.html
CLASS:PUBLIC
END:VEVENT
END:VCALENDAR
