BEGIN:VCALENDAR
VERSION:2.0
CALSCALE:GREGORIAN
PRODID:-//Diputació de Barcelona//DibaCMS//EN
BEGIN:VEVENT
UID:764
DTSTAMP:20260419T190433
DTSTART:20240325T000000
DTEND:20250831T000000
SUMMARY:Butlletí d'informació municipal de l'Ajuntament de Montseny
LOCATION:
METHOD:PUBLISH
X-WR-CALNAME:montseny@montseny.cat
X-WR-TIMEZONE:Europe/Madrid
DESCRIPTION:Teniu disponible la nova edició del butlletí d’informació municipal de Montseny- Hivern 2023/2024

Veure butlletí

URI:https://www.montseny.cat/actualitat/noticies/butlleti-dinformacio-municipal-de-lajuntament-de-montseny.html
CLASS:PUBLIC
END:VEVENT
END:VCALENDAR
