BEGIN:VCALENDAR
VERSION:2.0
CALSCALE:GREGORIAN
PRODID:-//Diputació de Barcelona//DibaCMS//EN
BEGIN:VEVENT
UID:755
DTSTAMP:20260421T121054
DTSTART:20211027T060000
DTEND:20220712T000000
SUMMARY:Plaga del bernat marró marbrejat
LOCATION:
METHOD:PUBLISH
X-WR-CALNAME:montseny@montseny.cat
X-WR-TIMEZONE:Europe/Madrid
DESCRIPTION:A Catalunya (Girona any 2016) es va detectar la nova plaga del bernat marró marbrejat (Halyomorpha halys), la qual representa un alt risc per als nostres cultius en els quals ja s’hi han detectat danys enguany

URI:https://www.montseny.cat/actualitat/noticies/plaga-del-bernat-marro-marbrejat.html
CLASS:PUBLIC
END:VEVENT
END:VCALENDAR
