BEGIN:VCALENDAR
VERSION:2.0
CALSCALE:GREGORIAN
PRODID:-//Diputació de Barcelona//DibaCMS//EN
BEGIN:VEVENT
UID:692
DTSTAMP:20260419T172013
DTSTART:20200501T000000
DTEND:20210501T000000
SUMMARY:Preguntes sobre l’autorització per fer activitat física no professional a l’aire lliure en el confinament per la COVID19, per a persones de 14 anys o més 
LOCATION:
METHOD:PUBLISH
X-WR-CALNAME:montseny@montseny.cat
X-WR-TIMEZONE:Europe/Madrid
DESCRIPTION:Als municipis i als ens territorials d’àmbit inferior al municipi de menys de 5000 habitants s’estableix una única franja horària perquè les persones, a partir de 14 anys d’edat, puguin passejar o fer esport, entre les 06:00h i les 23:00h.

Preguntes freqüents per la sortida controlada amb menors a l'espai públic

URI:https://www.montseny.cat/actualitat/noticies/692-preguntes-sobre-lautoritzacio-per-fer-activitat-fisica-no-professional-a-laire-lliure-en-el-confinament-per-la-covid19-per-a-persones-de-14-anys-o-mes-.html
CLASS:PUBLIC
END:VEVENT
END:VCALENDAR
