BEGIN:VCALENDAR
VERSION:2.0
CALSCALE:GREGORIAN
PRODID:-//Diputació de Barcelona//DibaCMS//EN
BEGIN:VEVENT
UID:690
DTSTAMP:20260419T184113
DTSTART:20200429T000000
DTEND:20210429T000000
SUMMARY:Subvencions per a les entitats i empreses de Comerç, Serveis, Artesania i Moda 
LOCATION:
METHOD:PUBLISH
X-WR-CALNAME:montseny@montseny.cat
X-WR-TIMEZONE:Europe/Madrid
DESCRIPTION:S'han publicat les bases i convocatòries per la qual s’aproven les bases reguladores per a la concessió de subvencions en l’àmbit del comerç, dels serveis, l’artesania i la moda afectats econòmicament per la COVID-19. +info

 

URI:https://www.montseny.cat/actualitat/noticies/subvencions-per-a-les-entitats-i-empreses-de-comerc-serveis-artesania-i-moda-.html
CLASS:PUBLIC
END:VEVENT
END:VCALENDAR
