BEGIN:VCALENDAR
VERSION:2.0
CALSCALE:GREGORIAN
PRODID:-//Diputació de Barcelona//DibaCMS//EN
BEGIN:VEVENT
UID:688
DTSTAMP:20260419T172625
DTSTART:20200427T000000
DTEND:20210427T000000
SUMMARY:Benestar emocional, Hospitalització i Pèrdua
LOCATION:
METHOD:PUBLISH
X-WR-CALNAME:montseny@montseny.cat
X-WR-TIMEZONE:Europe/Madrid
DESCRIPTION:La COVID-19 ha portat molts canvis a les nostres vides i ens ha fet afrontar situacions per a les quals no estàvem preparats.

El confinament ha provocat que haguem de modificar les nostres rutines habituals; que no puguem acompanyar els nostres éssers estimats durant les hospitalitzacions de la manera que voldríem; i si n'hem patit la pèrdua, que no ens haguem acomiadat com ens hauria agradat.

Aquestes circumstàncies ens provoquen sentiments i emocions que necessitem gestionar. Per això, el Servei de Salut Pública ha elaborat tres materials amb recomanacions per afrontar aquestes situacions excepcionals.







URI:https://www.montseny.cat/actualitat/noticies/benestar-emocional-hospitalitzacio-i-perdua.html
CLASS:PUBLIC
END:VEVENT
END:VCALENDAR
