BEGIN:VCALENDAR
VERSION:2.0
CALSCALE:GREGORIAN
PRODID:-//Diputació de Barcelona//DibaCMS//EN
BEGIN:VEVENT
UID:687
DTSTAMP:20260419T195624
DTSTART:20200427T000000
DTEND:20210427T000000
SUMMARY:S'estableixen nous terminis de pagament dels impostos municipals
LOCATION:
METHOD:PUBLISH
X-WR-CALNAME:montseny@montseny.cat
X-WR-TIMEZONE:Europe/Madrid
DESCRIPTION:Amb la voluntat de mantenir-vos al corrent del pagament dels tributs municipals durant aquests dies, coordinadament amb l’Organisme de Gestió Tributària de la Diputació de Barcelona, us informem de les mesures urgents extraordinàries que s’han pres per a fer front a l’impacte del COVID-19 i s’amplien novament els terminis de pagament dels impostos municipals. 

Per tant, els terminis afectats per aquesta modificació, quedaran com segueix:  Obrir notícia 

URI:https://www.montseny.cat/actualitat/noticies/sestableixen-nous-terminis-de-pagament-dels-impostos-municipals.html
CLASS:PUBLIC
END:VEVENT
END:VCALENDAR
