BEGIN:VCALENDAR
VERSION:2.0
CALSCALE:GREGORIAN
PRODID:-//Diputació de Barcelona//DibaCMS//EN
BEGIN:VEVENT
UID:686
DTSTAMP:20260419T185530
DTSTART:20200427T000000
DTEND:20210427T000000
SUMMARY:Ara et toca a tu, Gràcies
LOCATION:
METHOD:PUBLISH
X-WR-CALNAME:montseny@montseny.cat
X-WR-TIMEZONE:Europe/Madrid
DESCRIPTION:La Diputació de Barcelona, a través de la Gerència de Serveis de Comerç de l'Àrea de Desenvolupament Econòmic, Turisme i Comerç, engega la Campanya Ara et toca a tu: Gràcies! posa en valor el comerç de proximitat dels municipis, sensibilitzar a la ciutadania de la importància del consum en el comerç de proximitat i recolzar l’impuls de l’activitat econòmica local. 

URI:https://www.montseny.cat/actualitat/noticies/ara-et-toca-a-tu-gracies.html
CLASS:PUBLIC
END:VEVENT
END:VCALENDAR
