BEGIN:VCALENDAR
VERSION:2.0
CALSCALE:GREGORIAN
PRODID:-//Diputació de Barcelona//DibaCMS//EN
BEGIN:VEVENT
UID:685
DTSTAMP:20260419T185611
DTSTART:20200423T030000
DTEND:20200426T000000
SUMMARY:Sant Jordi 2020
LOCATION:
METHOD:PUBLISH
X-WR-CALNAME:montseny@montseny.cat
X-WR-TIMEZONE:Europe/Madrid
DESCRIPTION:

URI:https://www.montseny.cat/actualitat/noticies/sant-jordi-2020.html
CLASS:PUBLIC
END:VEVENT
END:VCALENDAR
