BEGIN:VCALENDAR
VERSION:2.0
CALSCALE:GREGORIAN
PRODID:-//Diputació de Barcelona//DibaCMS//EN
BEGIN:VEVENT
UID:683
DTSTAMP:20260419T183850
DTSTART:20200420T000000
DTEND:20210420T000000
SUMMARY:Campanya de salut pública Mascareta Salut
LOCATION:
METHOD:PUBLISH
X-WR-CALNAME:montseny@montseny.cat
X-WR-TIMEZONE:Europe/Madrid
DESCRIPTION:El Govern de la Generalitat de Catalunya, ha considerat necessari posar en marxa un programa de salut pública que garanteixi a tota la població de Catalunya l'accés a mascaretes.

Es lliuraran mascaretes a tots els ciutadans i les ciutadanes que presentin una targeta d'identificació sanitària (TSI), amb codi CIP o codi SNS, es lliuraran a totes les oficines de farmàcia de Catalunya i inicialment s'estableix per a cada ciutadà o ciutadana una única dispensació cada set dies.

+ Info Campanya

+ Info Mascaretes

URI:https://www.montseny.cat/actualitat/noticies/campanya-de-salut-publica-mascareta-salut.html
CLASS:PUBLIC
END:VEVENT
END:VCALENDAR
