BEGIN:VCALENDAR
VERSION:2.0
CALSCALE:GREGORIAN
PRODID:-//Diputació de Barcelona//DibaCMS//EN
BEGIN:VEVENT
UID:682
DTSTAMP:20260419T183223
DTSTART:20200419T000000
DTEND:20210419T000000
SUMMARY:Cuida la teva salut emocional a través de l’app GestioEmocional.cat
LOCATION:
METHOD:PUBLISH
X-WR-CALNAME:montseny@montseny.cat
X-WR-TIMEZONE:Europe/Madrid
DESCRIPTION:La por, la preocupació o la tristor són emocions normals davant la situació d’alerta sanitària que estem vivint. És important que estiguis atent a la teva salut emocional i que et cuidis.

Hi pots accedir a través d’aquest enllaç GestioEmocional.cat

Pots trobar més informació sobre salut emocional a canalsalut.gencat.cat/coronavirus

URI:https://www.montseny.cat/actualitat/noticies/cuida-la-teva-salut-emocional-a-traves-de-lapp-gestioemocionalcat.html
CLASS:PUBLIC
END:VEVENT
END:VCALENDAR
