BEGIN:VCALENDAR
VERSION:2.0
CALSCALE:GREGORIAN
PRODID:-//Diputació de Barcelona//DibaCMS//EN
BEGIN:VEVENT
UID:681
DTSTAMP:20260419T171008
DTSTART:20200503T000000
DTEND:20210419T000000
SUMMARY:Sortida al carrer d’infants i adolescents
LOCATION:
METHOD:PUBLISH
X-WR-CALNAME:montseny@montseny.cat
X-WR-TIMEZONE:Europe/Madrid
DESCRIPTION:Després de dies tancats a casa, ara podreu sortir al carrer. Fins ara, gràcies al confinament, hem pogut fer front al coronavirus: i ho heu fet molt bé, enhorabona! Per això, ara podem fer un pas endavant i els nens i nenes fins a 13 anys ja podeu sortir al carrer i caminar, córrer, jugar. Però aquesta sortida l’hem de fer amb protecció i de forma gradual, pas a pas, per protegir-nos nosaltres i els altres.

Preguntes freqüents

URI:https://www.montseny.cat/actualitat/noticies/sortida-al-carrer-dinfants-i-adolescents.html
CLASS:PUBLIC
END:VEVENT
END:VCALENDAR
