BEGIN:VCALENDAR
VERSION:2.0
CALSCALE:GREGORIAN
PRODID:-//Diputació de Barcelona//DibaCMS//EN
BEGIN:VEVENT
UID:679
DTSTAMP:20260419T172849
DTSTART:20200417T000000
DTEND:20210417T000000
SUMMARY:Subvencions per a professionals i microempreses del sector turístic afectats per les conseqüències de la COVID-19
LOCATION:
METHOD:PUBLISH
X-WR-CALNAME:montseny@montseny.cat
X-WR-TIMEZONE:Europe/Madrid
DESCRIPTION:El 15 d'abril es va publicar al DOGC l’ORDRE EMC/39/2020, de 13 d'abril, per la qual s'aproven les bases reguladores de la línia de subvencions per a professionals i microempreses del sector turístic de Catalunya afectats econòmicament per les conseqüències de la COVID-19. MÉS INFORMACIÓ

URI:https://www.montseny.cat/actualitat/noticies/subvencions-per-a-professionals-i-microempreses-del-sector-turistic-afectats-per-les-consequencies-de-la-covid-19.html
CLASS:PUBLIC
END:VEVENT
END:VCALENDAR
