BEGIN:VCALENDAR
VERSION:2.0
CALSCALE:GREGORIAN
PRODID:-//Diputació de Barcelona//DibaCMS//EN
BEGIN:VEVENT
UID:6257
DTSTAMP:20260424T154639
DTSTART:20260424T000000
DTEND:20270424T000000
SUMMARY:Subvencions per al pagament del lloguer o cessió d'ús per a persones de 36 a 64 anys
LOCATION:
METHOD:PUBLISH
X-WR-CALNAME:montseny@montseny.cat
X-WR-TIMEZONE:Europe/Madrid
DESCRIPTION:Oberta la convocatòria d’ajuts per al pagament del lloguer o la cessió d’ús per a persones d’entre 36 i 64 anys.  Aquestes subvencions tenen com a objectiu facilitar l’accés i la permanència en un habitatge o habitació, ja sigui en règim de lloguer o de cessió d’ús, especialment adreçades a persones i col·lectius en risc d’exclusió social.

URI:https://www.montseny.cat/actualitat/noticies/subvencions-per-al-pagament-del-lloguer-o-cessio-dus-per-a-persones-de-36-a-64-anys.html
CLASS:PUBLIC
END:VEVENT
END:VCALENDAR
