BEGIN:VCALENDAR
VERSION:2.0
CALSCALE:GREGORIAN
PRODID:-//Diputació de Barcelona//DibaCMS//EN
BEGIN:VEVENT
UID:6228
DTSTAMP:20260421T181922
DTSTART:20260306T000000
DTEND:20260309T010000
SUMMARY:Increment del cabal del riu Tordera i activació d’alerta per risc d’inundacions
LOCATION:
METHOD:PUBLISH
X-WR-CALNAME:montseny@montseny.cat
X-WR-TIMEZONE:Europe/Madrid
DESCRIPTION:El cabal del riu Tordera a l’estació de Montseny (Tordera) ha arribat als 32,7 m³/s, superant el llindar d’alerta. Aquesta situació indica que el cabal és superior a l’habitual i pot provocar afectacions en zones properes a la llera del riu. Segons la informació disponible, el nivell actual pot afectar punts baixos, camins fluvials, platges fluvials i zones de creuament de la llera, com ara guals, passallisos i altres accessos al riu. També existeix la possibilitat d’inundacions en zones pròximes i afectacions a infraestructures situades en àrees habitualment inundables.

URI:https://www.montseny.cat/actualitat/noticies/increment-del-cabal-del-riu-tordera-i-activacio-dalerta-per-risc-dinundacions.html
CLASS:PUBLIC
END:VEVENT
END:VCALENDAR
