BEGIN:VCALENDAR
VERSION:2.0
CALSCALE:GREGORIAN
PRODID:-//Diputació de Barcelona//DibaCMS//EN
BEGIN:VEVENT
UID:6205
DTSTAMP:20260426T042646
DTSTART:20260320T110000
DTEND:20260320T133000
SUMMARY:Bibliobús 
LOCATION:
METHOD:PUBLISH
X-WR-CALNAME:montseny@montseny.cat
X-WR-TIMEZONE:Europe/Madrid
DESCRIPTION:Aquest divendres 20 de març es reprèn el servei quinzenal de bibliobús al Montseny, després d’una aturada temporal a causa de les obres a la carretera.

El servei es durà a terme en un nou emplaçament provisional mentre durin aquests treballs, serà al Camp d’Esports, en l’horari habitual d’11 a 13.30 h.

Horari i més informació a : Bibliobús Montnegre - Biblioteca Virtual (diba.cat)

URI:https://www.montseny.cat/actualitat/agenda/6205-bibliobus-.html
CLASS:PUBLIC
END:VEVENT
END:VCALENDAR
