BEGIN:VCALENDAR
VERSION:2.0
CALSCALE:GREGORIAN
PRODID:-//Diputació de Barcelona//DibaCMS//EN
BEGIN:VEVENT
UID:6203
DTSTAMP:20260426T033051
DTSTART:20260206T110000
DTEND:20260206T133000
SUMMARY:Bibliobús
LOCATION:
METHOD:PUBLISH
X-WR-CALNAME:montseny@montseny.cat
X-WR-TIMEZONE:Europe/Madrid
DESCRIPTION:Propera visita del Bibliobús a Montseny: divendres dia 6 de febrer de 11:00h a 13:30h. 

Emplaçament a la Plaça de la Vila 

Horari i més informació a : Bibliobús Montnegre - Biblioteca Virtual (diba.cat)

URI:https://www.montseny.cat/actualitat/agenda/6203-bibliobus.html
CLASS:PUBLIC
END:VEVENT
END:VCALENDAR
