BEGIN:VCALENDAR
VERSION:2.0
CALSCALE:GREGORIAN
PRODID:-//Diputació de Barcelona//DibaCMS//EN
BEGIN:VEVENT
UID:6180
DTSTAMP:20260419T233318
DTSTART:20251017T000000
DTEND:20251024T000000
SUMMARY:Avís hidrològic comarcal al Vallès Oriental: possibles creixements sobtats de rius i rieres
LOCATION:
METHOD:PUBLISH
X-WR-CALNAME:montseny@montseny.cat
X-WR-TIMEZONE:Europe/Madrid
DESCRIPTION:A causa de la situació meteorològica actual, Protecció Civil ha emès un avís hidrològic que afecta la comarca del Vallès Oriental, inclòs el municipi de Montseny, així com altres municipis de comarques veïnes. Les pluges poden provocar augments sobtats del nivell de l’aigua en rius, rieres i altres cursos fluvials, amb el consegüent risc d’inundacions locals.

Aquest avís estarà vigent mentre persisteixi l’actual situació meteorològica. A més, l’aigua acumulada pot afectar també municipis d’altres comarques per on passen els cursos fluvials iniciats al Vallès Oriental.

URI:https://www.montseny.cat/actualitat/noticies/avis-hidrologic-comarcal-al-valles-oriental-possibles-creixements-sobtats-de-rius-i-rieres.html
CLASS:PUBLIC
END:VEVENT
END:VCALENDAR
