BEGIN:VCALENDAR
VERSION:2.0
CALSCALE:GREGORIAN
PRODID:-//Diputació de Barcelona//DibaCMS//EN
BEGIN:VEVENT
UID:6169
DTSTAMP:20260419T220222
DTSTART:20250917T010000
DTEND:20260130T000000
SUMMARY:Els CAP del Vallès Oriental consulten la ciutadania sobre la seva percepció de seguretat en l’atenció sanitària
LOCATION:
METHOD:PUBLISH
X-WR-CALNAME:montseny@montseny.cat
X-WR-TIMEZONE:Europe/Madrid
DESCRIPTION:Amb motiu del Dia Mundial de la Seguretat del Pacient (17 de setembre), els CAP del Vallès Oriental han iniciat una enquesta per conèixer la percepció de la ciutadania sobre la seguretat de l’atenció sanitària.

L’enquesta pregunta sobre aspectes com la qualitat de la informació, la formació dels professionals, les condicions dels centres i l’acompanyament rebut durant les visites. Es dirigeix tant a persones adultes com a famílies amb infants.

URI:https://www.montseny.cat/actualitat/noticies/els-cap-del-valles-oriental-consulten-la-ciutadania-sobre-la-seva-percepcio-de-seguretat-en-latencio-sanitaria.html
CLASS:PUBLIC
END:VEVENT
END:VCALENDAR
