BEGIN:VCALENDAR
VERSION:2.0
CALSCALE:GREGORIAN
PRODID:-//Diputació de Barcelona//DibaCMS//EN
BEGIN:VEVENT
UID:6103
DTSTAMP:20260419T203933
DTSTART:20250529T170000
DTEND:20250630T000000
SUMMARY:Comunicació de la defunció de Remei Picart Gadella
LOCATION:
METHOD:PUBLISH
X-WR-CALNAME:montseny@montseny.cat
X-WR-TIMEZONE:Europe/Madrid
DESCRIPTION:L'Ajuntament comunica amb profunda tristesa el decés de Remei Picart Gadella, qui va exercir com a regidora del nostre consistori des del 16 de març de 2019 fins al 16 de juny de 2023. Durant aquests anys, Remei va destacar per la seva gran dedicació a la comunitat i el seu ferm compromís amb el bé comú, contribuint de manera significativa al desenvolupament del nostre poble.

L'Ajuntament vol expressar el seu més sentit condol a la família i amics de Remei Picart, i recordar la valuosa tasca que va realitzar al nostre poble. Sempre la recordarem amb agraïment per la seva dedicació i compromís amb la nostra comunitat.

URI:https://www.montseny.cat/actualitat/noticies/comunicacio-de-la-defuncio-de-remei-picart-gadella.html
CLASS:PUBLIC
END:VEVENT
END:VCALENDAR
