BEGIN:VCALENDAR
VERSION:2.0
CALSCALE:GREGORIAN
PRODID:-//Diputació de Barcelona//DibaCMS//EN
BEGIN:VEVENT
UID:6093
DTSTAMP:20260419T203322
DTSTART:20250505T000000
DTEND:20250630T000000
SUMMARY:Consulta de la llista provisional de vehicles subjectes a l’impost sobre les emissions de CO₂ 2024
LOCATION:
METHOD:PUBLISH
X-WR-CALNAME:montseny@montseny.cat
X-WR-TIMEZONE:Europe/Madrid
DESCRIPTION:A partir de l’1 de maig de 2025, ja es pot consultar la llista provisional de vehicles que tributen per l’impost sobre les emissions de diòxid de carboni (CO₂) corresponent a l’exercici 2024. Aquest impost, gestionat per l’Agència Tributària de Catalunya, té com a objectiu fomentar una mobilitat més sostenible i reduir l’impacte ambiental dels vehicles.

URI:https://www.montseny.cat/actualitat/noticies/consulta-de-la-llista-provisional-de-vehicles-subjectes-a-limpost-sobre-les-emissions-de-co-2024.html
CLASS:PUBLIC
END:VEVENT
END:VCALENDAR
