BEGIN:VCALENDAR
VERSION:2.0
CALSCALE:GREGORIAN
PRODID:-//Diputació de Barcelona//DibaCMS//EN
BEGIN:VEVENT
UID:6086
DTSTAMP:20260419T215433
DTSTART:20250416T180000
DTEND:20250602T120000
SUMMARY:L’aigua de la Xarxa Municipal torna a ser apta per al consum
LOCATION:
METHOD:PUBLISH
X-WR-CALNAME:montseny@montseny.cat
X-WR-TIMEZONE:Europe/Madrid
DESCRIPTION:L’Ajuntament informa que l’aigua de la Xarxa Municipal ja es pot consumir amb total normalitat, un cop superats els valors que havien motivat l’avís preventiu emès el passat 18 de març.

URI:https://www.montseny.cat/actualitat/noticies/laigua-de-la-xarxa-municipal-torna-a-ser-apta-per-al-consum.html
CLASS:PUBLIC
END:VEVENT
END:VCALENDAR
