BEGIN:VCALENDAR
VERSION:2.0
CALSCALE:GREGORIAN
PRODID:-//Diputació de Barcelona//DibaCMS//EN
BEGIN:VEVENT
UID:6079
DTSTAMP:20260419T214055
DTSTART:20250404T000000
DTEND:20260404T000000
SUMMARY:Preinscripció per als estudis postobligatoris del curs 2025-2026
LOCATION:
METHOD:PUBLISH
X-WR-CALNAME:montseny@montseny.cat
X-WR-TIMEZONE:Europe/Madrid
DESCRIPTION:La preinscripció per als estudis postobligatoris del curs 2025-2026 a Catalunya ha començat el 3 d'abril i s'estendrà fins al 29 de maig

URI:https://www.montseny.cat/actualitat/noticies/preinscripcio-per-als-estudis-postobligatoris-del-curs-2025-2026.html
CLASS:PUBLIC
END:VEVENT
END:VCALENDAR
