BEGIN:VCALENDAR
VERSION:2.0
CALSCALE:GREGORIAN
PRODID:-//Diputació de Barcelona//DibaCMS//EN
BEGIN:VEVENT
UID:6078
DTSTAMP:20260419T143508
DTSTART:20250516T000000
DTEND:20250517T000000
SUMMARY:Across Catalunya 2025
LOCATION:
METHOD:PUBLISH
X-WR-CALNAME:montseny@montseny.cat
X-WR-TIMEZONE:Europe/Madrid
DESCRIPTION:​La M&M Across Catalunya 2025 és un esdeveniment esportiu que tindrà lloc els dies 16 i 17 de maig de 2025, amb sortida a Vielha, a la Vall d'Aran. Es tracta d'una prova de resistència en bicicleta de gravel, dissenyada per a aquells que volen posar a prova els seus límits sense assistència externa. El recorregut és lineal i travessa Catalunya des dels Pirineus fins al mar.  Aquesta edició de la cursa també passarà pel municipi de Montseny.

Podeu trobar més informació al següent enllaç: https://www.mmoutdoorculture.com/es/acrosscatalunya

URI:https://www.montseny.cat/actualitat/agenda/across-catalunya-2025.html
CLASS:PUBLIC
END:VEVENT
END:VCALENDAR
