BEGIN:VCALENDAR
VERSION:2.0
CALSCALE:GREGORIAN
PRODID:-//Diputació de Barcelona//DibaCMS//EN
BEGIN:VEVENT
UID:6075
DTSTAMP:20260419T213748
DTSTART:20250326T000000
DTEND:20260326T000000
SUMMARY:Dia Mundial de l'Activitat Física 2025
LOCATION:
METHOD:PUBLISH
X-WR-CALNAME:montseny@montseny.cat
X-WR-TIMEZONE:Europe/Madrid
DESCRIPTION:El proper 6 d'abril se celebra el Dia Mundial de l'Activitat Física (DMAF). Els sectors esportiu i sanitari coincideixen en el fet que l'exercici físic és clau per millorar els hàbits de salut i prevenir malalties. Per això, es fa una crida a tothom a incorporar l'activitat física a la seva rutina diària.

Tot pas compta, tot moviment compta, cada minut compta ❗

URI:https://www.montseny.cat/actualitat/noticies/dia-mundial-de-lactivitat-fisica-2025.html
CLASS:PUBLIC
END:VEVENT
END:VCALENDAR
