BEGIN:VCALENDAR
VERSION:2.0
CALSCALE:GREGORIAN
PRODID:-//Diputació de Barcelona//DibaCMS//EN
BEGIN:VEVENT
UID:6063
DTSTAMP:20260419T212503
DTSTART:20250121T000000
DTEND:20260121T000000
SUMMARY:Finalitzada l'actuació d'arranjament de l'enllumenat públic amb el suport de la Diputació de Barcelona
LOCATION:
METHOD:PUBLISH
X-WR-CALNAME:montseny@montseny.cat
X-WR-TIMEZONE:Europe/Madrid
DESCRIPTION:L'Ajuntament ha finalitzat recentment els treballs d'arranjament de l'enllumenat públic al municipi, una actuació que ha estat possible gràcies al suport i la subvenció atorgada per la Diputació de Barcelona. Aquesta millora ha permès actualitzar i adequar els quadres elèctrics, adaptant-los a la normativa vigent per garantir la seguretat i l'eficiència energètica del sistema d'enllumenat.

URI:https://www.montseny.cat/actualitat/noticies/finalitzada-lactuacio-darranjament-de-lenllumenat-public-amb-el-suport-de-la-diputacio-de-barcelona.html
CLASS:PUBLIC
END:VEVENT
END:VCALENDAR
