BEGIN:VCALENDAR
VERSION:2.0
CALSCALE:GREGORIAN
PRODID:-//Diputació de Barcelona//DibaCMS//EN
BEGIN:VEVENT
UID:6048
DTSTAMP:20260419T210852
DTSTART:20241231T000000
DTEND:20251231T000000
SUMMARY:Ruta per les millors fonts de Matagalls
LOCATION:
METHOD:PUBLISH
X-WR-CALNAME:montseny@montseny.cat
X-WR-TIMEZONE:Europe/Madrid
DESCRIPTION:Des de 1950 cada segon diumenge de juliol se celebra l’Aplec de Matagalls, i ha estat una tradició que en cada aplec s’inauguri una nova font o es facin millores en d’altres existents. És per aquet motiu, i per les característiques del terreny i la pluviometria, que a l’entorn de Matagalls si poden trobar vàries desenes de fonts. 

URI:https://www.montseny.cat/actualitat/noticies/ruta-per-les-millors-fonts-de-matagalls.html
CLASS:PUBLIC
END:VEVENT
END:VCALENDAR
