BEGIN:VCALENDAR
VERSION:2.0
CALSCALE:GREGORIAN
PRODID:-//Diputació de Barcelona//DibaCMS//EN
BEGIN:VEVENT
UID:6038
DTSTAMP:20260419T200658
DTSTART:20241128T000000
DTEND:20251128T000000
SUMMARY:Increment de la taxa de residus a partir de 2025
LOCATION:
METHOD:PUBLISH
X-WR-CALNAME:montseny@montseny.cat
X-WR-TIMEZONE:Europe/Madrid
DESCRIPTION:A partir de l’ 1 de gener de 2025, tots els municipis, inclòs el nostre, estan obligats a aprovar i aplicar una nova taxa de residus. Aquesta decisió s’emmarca en la normativa europea i estatal, que ens demana avançar cap a una economia més sostenible.

URI:https://www.montseny.cat/actualitat/noticies/increment-de-la-taxa-de-residus-a-partir-de-2025.html
CLASS:PUBLIC
END:VEVENT
END:VCALENDAR
