BEGIN:VCALENDAR
VERSION:2.0
CALSCALE:GREGORIAN
PRODID:-//Diputació de Barcelona//DibaCMS//EN
BEGIN:VEVENT
UID:6031
DTSTAMP:20260419T200423
DTSTART:20241110T000000
DTEND:20251110T000000
SUMMARY:L'Ajuntament ha creat nous perfils oficials a les xarxes socials. Seguiu-nos per rebre informació actualitzada.
LOCATION:
METHOD:PUBLISH
X-WR-CALNAME:montseny@montseny.cat
X-WR-TIMEZONE:Europe/Madrid
DESCRIPTION:L’Ajuntament de Montseny ha establert dos nous perfils institucionals a Telegram i WhatsApp per augmentar els canals de comunicació amb els ciutadans i proporcionar informació oficial sobre la gestió municipal i les activitats de les diverses àrees del consistori d'interès ciutadà.

URI:https://www.montseny.cat/actualitat/noticies/lajuntament-ha-creat-nous-perfils-oficials-a-les-xarxes-socials-seguiu-nos-per-rebre-informacio-actualitzada.html
CLASS:PUBLIC
END:VEVENT
END:VCALENDAR
