BEGIN:VCALENDAR
VERSION:2.0
CALSCALE:GREGORIAN
PRODID:-//Diputació de Barcelona//DibaCMS//EN
BEGIN:VEVENT
UID:6024
DTSTAMP:20260419T200739
DTSTART:20241104T000000
DTEND:20241105T000000
SUMMARY:S'activa en alerta el pla INUNCAT per les pluges intenses previstes
LOCATION:
METHOD:PUBLISH
X-WR-CALNAME:montseny@montseny.cat
X-WR-TIMEZONE:Europe/Madrid
DESCRIPTION:Protecció Civil de la Generalitat ha activat aquesta nit en ALERTA el Pla especial d’emergències per risc d’inundacions a Catalunya (INUNCAT), davant l’avís del Servei Meteorològic de Catalunya (SMC) que, s'esperen pluges que poden superar el llindar d'intensitat de 40 litres per metre quadrat en 30 minuts.  Es recomana allunyar-se de zones inundables i no travessar zones amb acumulació d'aigua.

Comarques: el Baix Llobregat, el Barcelonès, el Vallès Occidental, el Vallès Oriental i el Maresme. El temps a Montseny. Predicció municipal | Meteocat

URI:https://www.montseny.cat/actualitat/noticies/sactiva-en-alerta-el-pla-inuncat-per-les-pluges-intenses-previstes.html
CLASS:PUBLIC
END:VEVENT
END:VCALENDAR
