BEGIN:VCALENDAR
VERSION:2.0
CALSCALE:GREGORIAN
PRODID:-//Diputació de Barcelona//DibaCMS//EN
BEGIN:VEVENT
UID:6020
DTSTAMP:20260419T200044
DTSTART:20241011T000000
DTEND:20241231T000000
SUMMARY:Programa de Suport a l’Ocupació (SOJ)
LOCATION:
METHOD:PUBLISH
X-WR-CALNAME:montseny@montseny.cat
X-WR-TIMEZONE:Europe/Madrid
DESCRIPTION:El Programa de Suport a l’Ocupació Juvenil (SOJ) és un programa gratuït del Servei d’Ocupació de Catalunya (SOC) d'orientació integral a mida, que s’adreça a joves d’entre 16 i 29 anys que no estudien ni treballen.

URI:https://www.montseny.cat/actualitat/noticies/programa-de-suport-a-locupacio-soj.html
CLASS:PUBLIC
END:VEVENT
END:VCALENDAR
